BEGIN:VCALENDAR
VERSION:2.0
PRODID:-//eventon.com NONSGML v1.0//EN
CALSCALE:GREGORIAN
METHOD:PUBLISH
BEGIN:VEVENT
UID:69e57abe79001
DTSTAMP:20260420T010046Z
DTSTART:20240106T091500Z
DTEND:20240106T101500Z
LOCATION:Court Park Hillingdon\,  UB10 9JX
SUMMARY:Soccer School Saturdays – Winter Term 2
DESCRIPTION:Soccer School Saturdays &#8211; Winter Term 2\nhttps://legacy-f
 c.co.uk/events/soccer-school-saturdays-winter-term-2/
URL:https://legacy-fc.co.uk/events/soccer-school-saturdays-winter-term-2/
END:VEVENT
BEGIN:VEVENT
UID:69e57abe7910b
DTSTAMP:20260420T010046Z
DTSTART:20240120T091500Z
DTEND:20240120T101500Z
LOCATION:Court Park Hillingdon\,  UB10 9JX
SUMMARY:U13s Tigers Training
DESCRIPTION:U13s Tigers Training\nhttps://legacy-fc.co.uk/events/u13s-tiger
 s-training/
URL:https://legacy-fc.co.uk/events/u13s-tigers-training/
END:VEVENT
BEGIN:VEVENT
UID:69e57abe79200
DTSTAMP:20260420T010046Z
DTSTART:20231216T093000Z
DTEND:20231216T103000Z
LOCATION:Court Park Hillingdon\,  UB10 9JX
SUMMARY:U12s Cheetahs Training
DESCRIPTION:U12s Cheetahs Training\nhttps://legacy-fc.co.uk/events/u12s-che
 etahs-training/
URL:https://legacy-fc.co.uk/events/u12s-cheetahs-training/
END:VEVENT
BEGIN:VEVENT
UID:69e57abe792d5
DTSTAMP:20260420T010046Z
DTSTART:20231216T091500Z
DTEND:20231216T101500Z
LOCATION:Court Park Hillingdon\,  UB10 9JX
SUMMARY:U11s Lions Training
DESCRIPTION:U11s Lions Training\nhttps://legacy-fc.co.uk/events/u11s-lions-
 training/
URL:https://legacy-fc.co.uk/events/u11s-lions-training/
END:VEVENT
BEGIN:VEVENT
UID:69e57abe793b8
DTSTAMP:20260420T010046Z
DTSTART:20230909T091500Z
DTEND:20230909T101500Z
LOCATION:Court Park Hillingdon\,  UB10 9JX
SUMMARY:Soccer School Saturdays – Autumn Term
DESCRIPTION:Soccer School Saturdays &#8211; Autumn Term\nhttps://legacy-fc.
 co.uk/events/soccer-school-fun-football-games/
URL:https://legacy-fc.co.uk/events/soccer-school-fun-football-games/
END:VEVENT
BEGIN:VEVENT
UID:69e57abe79482
DTSTAMP:20260420T010046Z
DTSTART:20240608T091500Z
DTEND:20240608T101500Z
LOCATION:Court Park Hillingdon\,  UB10 9JX
SUMMARY:Soccer School Saturdays – Summer Term 2
DESCRIPTION:Soccer School Saturdays &#8211; Summer Term 2\nhttps://legacy-f
 c.co.uk/events/soccer-school-saturdays-summer-term-2/
URL:https://legacy-fc.co.uk/events/soccer-school-saturdays-summer-term-2/
END:VEVENT
BEGIN:VEVENT
UID:69e57abe79545
DTSTAMP:20260420T010046Z
DTSTART:20240420T091500Z
DTEND:20240420T101500Z
LOCATION:Court Park Hillingdon\,  UB10 9JX
SUMMARY:Soccer School Saturdays – Summer Term 1
DESCRIPTION:Soccer School Saturdays &#8211; Summer Term 1\nhttps://legacy-f
 c.co.uk/events/soccer-school-saturdays-summer-term-1/
URL:https://legacy-fc.co.uk/events/soccer-school-saturdays-summer-term-1/
END:VEVENT
BEGIN:VEVENT
UID:69e57abe79621
DTSTAMP:20260420T010046Z
DTSTART:20240224T091500Z
DTEND:20240224T101500Z
LOCATION:Court Park Hillingdon\,  UB10 9JX
SUMMARY:Soccer School Saturdays – Spring Term
DESCRIPTION:Soccer School Saturdays &#8211; Spring Term\nhttps://legacy-fc.
 co.uk/events/soccer-school-saturdays-spring-term/
URL:https://legacy-fc.co.uk/events/soccer-school-saturdays-spring-term/
END:VEVENT
BEGIN:VEVENT
UID:69e57abe79707
DTSTAMP:20260420T010046Z
DTSTART:20231104T091500Z
DTEND:20231104T101500Z
LOCATION:Court Park Hillingdon\,  UB10 9JX
SUMMARY:Soccer School Saturdays – Winter Term 1
DESCRIPTION:Soccer School Saturdays &#8211; Winter Term 1\nhttps://legacy-f
 c.co.uk/events/soccer-school-saturdays-winter-term-1/
URL:https://legacy-fc.co.uk/events/soccer-school-saturdays-winter-term-1/
END:VEVENT
BEGIN:VEVENT
UID:69e57abe797e3
DTSTAMP:20260420T010046Z
DTSTART:20240203T091500Z
DTEND:20240203T101500Z
LOCATION:Court Park Hillingdon\,  UB10 9JX
SUMMARY:U9s Leopards Training
DESCRIPTION:U9s Leopards Training\nhttps://legacy-fc.co.uk/events/u9s-leopa
 rds-training/
URL:https://legacy-fc.co.uk/events/u9s-leopards-training/
END:VEVENT
BEGIN:VEVENT
UID:69e57abe798bd
DTSTAMP:20260420T010046Z
DTSTART:20210424T093000Z
DTEND:20210424T103000Z
LOCATION:Court Park Hillingdon\,  UB10 9JX
SUMMARY:U11s Jaguars Training
DESCRIPTION:U11s Jaguars Training\nhttps://legacy-fc.co.uk/events/u11s-jagu
 ars-training/
URL:https://legacy-fc.co.uk/events/u11s-jaguars-training/
END:VEVENT
END:VCALENDAR